{"text_format":"1","workbook":"xlsx","n_sheets":11,"sheets":["欠席届","印刷用シート","個票1","個票2","個票3","個票4","個票5","個票6","個票7","個票8","個票9"],"not_rendered":{"charts":0,"images":0,"macros":1,"external_links":0,"defined_names":11,"comments":0,"pivot_tables":0},"unopened":[],"bounds":{"document_bytes":16777216,"sheet_cells":100000,"rows_first":2000,"rows_last":500,"rows_between":2000,"halvings":0,"cell_chars":16384,"cell_head_chars":4096},"cells_cut":0,"cells_raw":0,"read":"whole","date_system":"1900"}

{"sheet":"欠席届","index":0,"n_rows":47,"n_cols":17,"rows_kept":47,"cut":false,"hidden":false,"merged":[[1,1,1,2],[2,1,2,2],[4,1,4,13],[17,1,17,2],[42,10,42,12],[30,1,30,2],[34,10,34,12],[35,10,35,12],[36,10,36,12],[38,6,38,9],[39,6,39,9],[40,6,40,9],[41,6,41,9],[37,1,37,2],[38,1,38,2],[38,10,38,12],[43,10,43,12],[13,2,13,6],[39,1,39,2],[40,1,40,2],[41,1,41,2],[42,1,42,2],[43,1,43,2],[31,1,31,2],[32,1,32,2],[33,1,33,2],[34,1,34,2],[35,1,35,2],[36,1,36,2],[40,10,40,12],[41,10,41,12],[36,6,36,9],[39,10,39,12],[7,6,7,10],[37,10,37,12],[25,10,25,12],[26,10,26,12],[21,1,21,7],[19,9,19,12],[9,9,9,12],[11,9,11,12],[37,6,37,9],[29,1,29,5],[42,6,42,9],[44,10,44,12],[45,10,45,12],[46,10,46,12],[29,6,29,9],[30,6,30,9],[31,6,31,9],[32,6,32,9],[33,6,33,9],[34,6,34,9],[35,6,35,9],[30,10,30,12],[29,10,29,13],[31,10,31,12],[32,10,32,12],[33,10,33,12],[43,6,43,9],[44,6,44,9],[45,6,45,9],[46,6,46,9],[44,1,44,2],[45,1,45,2],[46,1,46,2]]}
[null,"入力の方法"]
[null,"青いセル",null,"はクリックして，リストから選択する。"]
[null,"ピンクのセル",null,"は直接入力する。",null,null,null,null,"入力したら，「印刷」ボタンを押す。"]
[null,null,null,null,null,null,null,null,null,null,null,null,null,null,null,"行"]
[null,"欠　　席　　届",null,null,null,null,null,null,null,null,null,null,null,null,null,1,"第一部　文学科　日本語日本文学専攻"]
[null,null,null,null,null,null,null,null,null,null,null,null,null,null,null,2,"第一部　文学科　英語英文学専攻"]
[null,null,null,null,null,null,null,null,null,null,null,null,null,null,null,3,"第一部　生活科学科　食物栄養専攻"]
[null,null,null,null,null,null,"第一部　文学科　日本語日本文学専攻",null,null,null,null,"２年",{"$f":"RIGHT(J10,2)","v":"99"},"番",null,4,"第一部　生活科学科　生活科学専攻"]
[null,null,null,null,null,null,null,null,null,null,null,null,null,null,null,5,"第一部　商経学科　経済専攻"]
[null,null,null,null,null,null,null,null,"学生証番号",18199,null,null,null,null,null,6,"第一部　商経学科　経営情報専攻"]
[null,null,null,null,null,null,null,null,null,null,null,null,null,null,null,7,"第二部　商経学科"]
[null,null,null,null,null,null,null,null,"氏　　　名","県短　花子",null,null,null,null,null,8,"１年"]
[null,null,null,null,null,null,null,null,null,null,null,null,null,null,null,9,"２年"]
[null,"　私は，",null,null,null,null,null,"のため","2018-04-27","から","2018-04-27","まで",{"$f":"K14-I14+1","v":1},"日間",null,10,"３年"]
[null,"欠席したい","のでお届けします。",null,null,null,null,null,null,null,null,null,null,null,null,11,"就職試験"]
[null,null,null,null,null,null,null,null,null,null,null,null,null,null,null,12,"教育実習"]
[null,null,null,null,null,null,null,null,null,null,null,null,null,null,null,13,"給食管理実習"]
[null,{"$f":"TODAY()","v":"2022-04-28"},null,null,null,null,null,null,null,null,null,null,null,null,null,14,"栄養教育実習"]
[null,null,null,null,null,null,null,null,null,null,null,null,null,null,null,15,"給食管理実習・栄養教育実習"]
[null,null,null,null,null,null,null,null,"本　　　人",{"$f":"+J12","v":"県短　花子"},null,null,null,null,null,16,"臨床栄養学実習"]
[null,null,null,null,null,null,null,null,null,null,null,null,null,null,null,17,"介護等体験"]
[null,"  鹿児島県立短期大学長　飯干  明　殿",null,null,null,null,null,null,null,null,null,null,null,null,null,18,"感染症による出校停止"]
[null,null,null,null,null,null,null,null,null,null,null,null,null,null,null,19]
[null,null,null,null,null,null,null,null,null,null,null,null,null,null,null,20,"欠席したい"]
[null,"（注）病欠で１週間を超えるときは，医師の診断書を添付すること。",null,null,null,null,null,null,null,null,null,null,null,null,null,21,"欠席した"]
[null,"  　  　※ ","① 先生方への個別の欠席届（Ａ５判）を添付すること。",null,null,null,null,null,null,null,null,null,null,null,null,22]
[null,null,"② 欠席する日時，科目，教員名をすべて下欄に記入すること。",null,null,null,null,null,null,null,null,null,null,null,null,23]
[null,"    　　　 ",null,null,null,null,null,null,null,null,null,null,null,null,null,24]
[null,null,null,null,null,null,null,null,null,null,null,null,null,null,null,25]
[null,"欠 席 す る 日 時 等",null,null,null,null,"科　　　目",null,null,null,"教 員 名",null,null,null,null,26]
[1,"2021-05-27",null,{"$f":"IF(B31=\"\",\"\",B31)","v":44343},"曜日","１限","日本語学概論",null,null,null,"望月",null,null,{"$f":"IF(K31=\"\",\"\",\"先生\")","v":"先生"},null,27]
[2,"2021-05-27",null,{"$f":"IF(B32=\"\",\"\",B32)","v":44343},{"$f":"IF(B32=\"\",\"\",\"曜日\")","v":"曜日"},"２限","日本文学講読４",null,null,null,"丹羽謙治",null,null,{"$f":"IF(K32=\"\",\"\",\"先生\")","v":"先生"},null,28,"１限"]
[3,"2021-05-27",null,44343,{"$f":"IF(B33=\"\",\"\",\"曜日\")","v":"曜日"},"３限","中国文学講読１",null,null,null,"土肥",null,null,"先生",null,29,"２限"]
[4,"2021-05-27",null,{"$f":"IF(B34=\"\",\"\",B34)","v":44343},{"$f":"IF(B34=\"\",\"\",\"曜日\")","v":"曜日"},"４限","産業心理学",null,null,null,"岡村俊彦",null,null,"先生",null,30,"３限"]
[5,null,null,"","",null,null,null,null,null,null,null,null,"",null,31,"４限"]
[6,null,null,"","",null,null,null,null,null,null,null,null,"",null,32,"５限"]
[7,null,null,"","",null,null,null,null,null,null,null,null,"",null,33]
[8,null,null,"","",null,null,null,null,null,null,null,null,"",null,34]
[9,null,null,"","",null,null,null,null,null,null,null,null,"",null,35]
[10,null,null,"","",null,null,null,null,null,null,null,null,"",null,36]
[11,null,null,"","",null,null,null,null,null,null,null,null,"",null,37]
[12,null,null,"","",null,null,null,null,null,null,null,null,"",null,38]
[13,null,null,"","",null,null,null,null,null,null,null,null,"",null,39]
[14,null,null,"","",null,null,null,null,null,null,null,null,"",null,40]
[15,null,null,"","",null,null,null,null,null,null,null,null,"",null,41]
[16,null,null,"","",null,null,null,null,null,null,null,null,"",null,42]
[17,null,null,"","",null,null,null,null,null,null,null,null,"",null,43]

{"sheet":"印刷用シート","index":1,"n_rows":43,"n_cols":15,"rows_kept":43,"cut":false,"hidden":true,"merged":[[13,0,13,1],[0,0,0,12],[3,5,3,9],[5,8,5,11],[7,8,7,11],[9,1,9,5],[15,8,15,11],[17,0,17,6],[21,9,21,11],[22,9,22,11],[25,0,25,4],[25,5,25,8],[25,9,25,12],[26,0,26,1],[26,5,26,8],[26,9,26,11],[27,0,27,1],[27,5,27,8],[27,9,27,11],[28,0,28,1],[28,5,28,8],[28,9,28,11],[29,0,29,1],[29,5,29,8],[29,9,29,11],[30,0,30,1],[30,5,30,8],[30,9,30,11],[31,0,31,1],[31,5,31,8],[31,9,31,11],[32,0,32,1],[32,5,32,8],[32,9,32,11],[33,0,33,1],[33,5,33,8],[33,9,33,11],[34,0,34,1],[34,5,34,8],[34,9,34,11],[35,0,35,1],[35,5,35,8],[35,9,35,11],[36,0,36,1],[36,5,36,8],[36,9,36,11],[37,0,37,1],[37,5,37,8],[37,9,37,11],[38,0,38,1],[38,5,38,8],[38,9,38,11],[39,0,39,1],[39,5,39,8],[39,9,39,11],[42,0,42,1],[42,5,42,8],[42,9,42,11],[40,0,40,1],[40,5,40,8],[40,9,40,11],[41,0,41,1],[41,5,41,8],[41,9,41,11]]}
["欠　　席　　届",null,null,null,null,null,null,null,null,null,null,null,null,null,"第一部　文学科　日本語日本文学専攻"]
[null,null,null,null,null,null,null,null,null,null,null,null,null,null,"第一部　文学科　英語英文学専攻"]
[null,null,null,null,null,null,null,null,null,null,null,null,null,null,"第一部　生活科学科　食物栄養専攻"]
[null,null,null,null,null,"第一部　文学科　日本語日本文学専攻",null,null,null,null,"２年",{"$f":"RIGHT(I6,2)","v":"99"},"番",null,"第一部　生活科学科　生活科学専攻"]
[null,null,null,null,null,null,null,null,null,null,null,null,null,null,"第一部　商経学科　経済専攻"]
[null,null,null,null,null,null,null,"学生証番号",{"$f":"+欠席届!J10","v":18199},null,null,null,null,null,"第一部　商経学科　経営情報専攻"]
[null,null,null,null,null,null,null,null,null,null,null,null,null,null,"第二部　商経学科"]
[null,null,null,null,null,null,null,"氏　　　名",{"$f":"+欠席届!J12","v":"県短　花子"},null,null,null,null,null,"１年"]
[null,null,null,null,null,null,null,null,null,null,null,null,null,null,"２年"]
["　私は，",{"$f":"+欠席届!C14","v":0},null,null,null,null,"のため",{"$f":"+欠席届!I14","v":"2018-04-27"},"から",{"$f":"+欠席届!K14","v":"2018-04-27"},"まで",{"$f":"J10-H10+1","v":1},"日間",null,"３年"]
["欠席したいのでお届けします。",null,null,null,null,null,null,null,null,null,null,null,null,null,"就職試験"]
[null,null,null,null,null,null,null,null,null,null,null,null,null,null,"教育実習"]
[null,null,null,null,null,null,null,null,null,null,null,null,null,null,"給食管理実習"]
[{"$f":"+欠席届!B18","v":"2022-04-28"},null,null,null,null,null,null,null,null,null,null,null,null,null,"栄養教育実習"]
[null,null,null,null,null,null,null,null,null,null,null,null,null,null,"給食管理実習・栄養教育実習"]
[null,null,null,null,null,null,null,"本　　　人",{"$f":"+I8","v":"県短　花子"},null,null,null,"印",null,"臨床栄養学実習"]
[null,null,null,null,null,null,null,null,null,null,null,null,null,null,"介護等体験"]
["  鹿児島県立短期大学長　野呂　忠秀 　殿"]
[null,null,null,null,null,null,null,null,null,null,null,null,null,null,"欠席したい"]
[null,null,null,null,null,null,null,null,null,null,null,null,null,null,"欠席した"]
["（注）病欠で１週間を超えるときは，医師の診断書を添付すること。"]
["  　  　※ ","① 先生方への個別の欠席届（Ａ５判）を添付すること。"]
[null,"② 欠席する日時，科目，教員名をすべて下欄に記入すること。"]
["    　　　 "]
[]
["欠 席 す る 日 時 等",null,null,null,null,"科　　　目",null,null,null,"教 員 名"]
[{"$f":"+欠席届!B31","v":"2021-05-27"},null,{"$f":"IF(A27=\"\",\"\",A27)","v":44343},{"$f":"+欠席届!E31","v":"曜日"},{"$f":"+欠席届!F31","v":"１限"},{"$f":"+欠席届!G31","v":"日本語学概論"},null,null,null,{"$f":"+欠席届!K31","v":"望月"},null,null,{"$f":"+欠席届!N31","v":"先生"},null,"１限"]
[{"$f":"+欠席届!B32","v":"2021-05-27"},null,{"$f":"IF(A28=\"\",\"\",A28)","v":44343},{"$f":"+欠席届!E32","v":"曜日"},{"$f":"+欠席届!F32","v":"２限"},{"$f":"+欠席届!G32","v":"日本文学講読４"},null,null,null,{"$f":"+欠席届!K32","v":"丹羽謙治"},null,null,{"$f":"+欠席届!N32","v":"先生"},null,"２限"]
[{"$f":"+欠席届!B33","v":"2021-05-27"},null,44343,{"$f":"+欠席届!E33","v":"曜日"},{"$f":"+欠席届!F33","v":"３限"},{"$f":"+欠席届!G33","v":"中国文学講読１"},null,null,null,{"$f":"+欠席届!K33","v":"土肥"},null,null,{"$f":"+欠席届!N33","v":"先生"},null,"３限"]
[{"$f":"+欠席届!B34","v":"2021-05-27"},null,44343,{"$f":"+欠席届!E34","v":"曜日"},{"$f":"+欠席届!F34","v":"４限"},{"$f":"+欠席届!G34","v":"産業心理学"},null,null,null,{"$f":"+欠席届!K34","v":"岡村俊彦"},null,null,{"$f":"+欠席届!N34","v":"先生"},null,"４限"]
[{"$f":"+欠席届!B35","v":"00:00:00"},null,0,{"$f":"+欠席届!E35","v":""},{"$f":"+欠席届!F35","v":"00:00:00"},{"$f":"+欠席届!G35","v":"00:00:00"},null,null,null,{"$f":"+欠席届!K35","v":0},null,null,{"$f":"+欠席届!N35","v":""},null,"５限"]
[{"$f":"+欠席届!B36","v":"00:00:00"},null,0,{"$f":"+欠席届!E36","v":""},{"$f":"+欠席届!F36","v":"00:00:00"},{"$f":"+欠席届!G36","v":"00:00:00"},null,null,null,{"$f":"+欠席届!K36","v":0},null,null,{"$f":"+欠席届!N36","v":""}]
[{"$f":"+欠席届!B37","v":"00:00:00"},null,0,{"$f":"+欠席届!E37","v":""},{"$f":"+欠席届!F37","v":"00:00:00"},{"$f":"+欠席届!G37","v":"00:00:00"},null,null,null,{"$f":"+欠席届!K37","v":0},null,null,{"$f":"+欠席届!N37","v":""}]
[{"$f":"+欠席届!B38","v":"00:00:00"},null,0,{"$f":"+欠席届!E38","v":""},{"$f":"+欠席届!F38","v":"00:00:00"},{"$f":"+欠席届!G38","v":"00:00:00"},null,null,null,{"$f":"+欠席届!K38","v":0},null,null,{"$f":"+欠席届!N38","v":""}]
[{"$f":"+欠席届!B39","v":"00:00:00"},null,0,{"$f":"+欠席届!E39","v":""},{"$f":"+欠席届!F39","v":"00:00:00"},{"$f":"+欠席届!G39","v":"00:00:00"},null,null,null,{"$f":"+欠席届!K39","v":0},null,null,{"$f":"+欠席届!N39","v":""}]
[{"$f":"+欠席届!B40","v":"00:00:00"},null,0,{"$f":"+欠席届!E40","v":""},{"$f":"+欠席届!F40","v":"00:00:00"},{"$f":"+欠席届!G40","v":"00:00:00"},null,null,null,{"$f":"+欠席届!K40","v":0},null,null,{"$f":"+欠席届!N40","v":""}]
[{"$f":"+欠席届!B41","v":"00:00:00"},null,0,{"$f":"+欠席届!E41","v":""},{"$f":"+欠席届!F41","v":"00:00:00"},{"$f":"+欠席届!G41","v":"00:00:00"},null,null,null,{"$f":"+欠席届!K41","v":0},null,null,{"$f":"+欠席届!N41","v":""}]
[{"$f":"+欠席届!B42","v":"00:00:00"},null,0,{"$f":"+欠席届!E42","v":""},{"$f":"+欠席届!F42","v":"00:00:00"},{"$f":"+欠席届!G42","v":"00:00:00"},null,null,null,{"$f":"+欠席届!K42","v":0},null,null,{"$f":"+欠席届!N42","v":""}]
[{"$f":"+欠席届!B43","v":"00:00:00"},null,0,{"$f":"+欠席届!E43","v":""},{"$f":"+欠席届!F43","v":"00:00:00"},{"$f":"+欠席届!G43","v":"00:00:00"},null,null,null,{"$f":"+欠席届!K43","v":0},null,null,{"$f":"+欠席届!N43","v":""}]
[{"$f":"+欠席届!B44","v":"00:00:00"},null,0,{"$f":"+欠席届!E44","v":""},{"$f":"+欠席届!F44","v":"00:00:00"},{"$f":"+欠席届!G44","v":"00:00:00"},null,null,null,{"$f":"+欠席届!K44","v":0},null,null,{"$f":"+欠席届!N44","v":""}]
[{"$f":"+欠席届!B45","v":"00:00:00"},null,0,{"$f":"+欠席届!E45","v":""},{"$f":"+欠席届!F45","v":"00:00:00"},{"$f":"+欠席届!G45","v":"00:00:00"},null,null,null,{"$f":"+欠席届!K45","v":0},null,null,{"$f":"+欠席届!N45","v":""}]
[{"$f":"+欠席届!B46","v":"00:00:00"},null,0,{"$f":"+欠席届!E46","v":""},{"$f":"+欠席届!F46","v":"00:00:00"},{"$f":"+欠席届!G46","v":"00:00:00"},null,null,null,{"$f":"+欠席届!K46","v":0},null,null,{"$f":"+欠席届!N46","v":""}]
[{"$f":"+欠席届!B47","v":"00:00:00"},null,0,{"$f":"+欠席届!E47","v":""},{"$f":"+欠席届!F47","v":"00:00:00"},{"$f":"+欠席届!G47","v":"00:00:00"},null,null,null,{"$f":"+欠席届!K47","v":0},null,null,{"$f":"+欠席届!N47","v":""}]

{"sheet":"個票1","index":2,"n_rows":43,"n_cols":7,"rows_kept":43,"cut":false,"hidden":true,"merged":[[0,0,0,3],[33,0,33,3],[11,0,11,3],[40,2,40,3],[14,1,14,2],[9,0,9,3],[18,2,18,3],[4,2,4,3],[6,2,6,3],[22,0,22,3],[26,2,26,3],[28,2,28,3],[31,0,31,3],[36,1,36,2]]}
["欠　　席　　届"]
[]
[null,null,null,{"$f":"+欠席届!$G$8&欠席届!$L$8&欠席届!$M$8&欠席届!$N$8","v":"第一部　文学科　日本語日本文学専攻２年99番"},null,null,{"$f":"IF(欠席届!B15=\"欠席した\",\"欠席いたしました\",\"欠席いたします\")","v":"欠席いたします"}]
[]
[null,"学生証番号",{"$f":"+欠席届!$J$10","v":18199}]
[]
[null,"氏　     　名",{"$f":"+欠席届!$J$12","v":"県短　花子"}]
[]
[{"$f":"\"\"","v":""}]
[{"$f":"\"下記理由により\"&$G$3&\"ので，お届けします。\"","v":"下記理由により欠席いたしますので，お届けします。"}]
[]
["記"]
[]
["１　理　　由",{"$f":"+欠席届!$C$14","v":0}]
["２　欠席月日",{"$f":"+欠席届!$B$31","v":"2021-05-27"},null,{"$f":"欠席届!$E$31&欠席届!$F$31","v":"曜日１限"}]
[]
[{"$f":"+欠席届!$B$18","v":"2022-04-28"}]
[]
[{"$f":"+欠席届!$K$31","v":"望月"},"先生　講義科目",{"$f":"+欠席届!$G$31","v":"日本語学概論"}]
["　　"]
["※ 理由は詳しく書くこと。"]
[]
["欠　　席　　届"]
[]
[null,null,null,{"$f":"+欠席届!$G$8&欠席届!$L$8&欠席届!$M$8&欠席届!$N$8","v":"第一部　文学科　日本語日本文学専攻２年99番"}]
[]
[null,"学生証番号",{"$f":"+欠席届!$J$10","v":18199}]
[]
[null,"氏　     　名",{"$f":"+欠席届!$J$12","v":"県短　花子"}]
[]
[{"$f":"\"\"","v":""}]
[{"$f":"\"下記理由により\"&$G$3&\"ので，お届けします。\"","v":"下記理由により欠席いたしますので，お届けします。"}]
[]
["記"]
[]
["１　理　　由",{"$f":"+欠席届!$C$14","v":0}]
["２　欠席月日",{"$f":"+欠席届!$B$32","v":"2021-05-27"},null,{"$f":"欠席届!$E$32&欠席届!$F$32","v":"曜日２限"}]
[]
[{"$f":"+欠席届!$B$18","v":"2022-04-28"}]
[]
[{"$f":"+欠席届!$K$32","v":"丹羽謙治"},"先生　講義科目",{"$f":"+欠席届!$G$32","v":"日本文学講読４"}]
["　　"]
["※ 理由は詳しく書くこと。"]

{"sheet":"個票2","index":3,"n_rows":43,"n_cols":7,"rows_kept":43,"cut":false,"hidden":true,"merged":[[14,1,14,2],[0,0,0,3],[4,2,4,3],[6,2,6,3],[9,0,9,3],[11,0,11,3],[36,1,36,2],[40,2,40,3],[18,2,18,3],[22,0,22,3],[26,2,26,3],[28,2,28,3],[31,0,31,3],[33,0,33,3]]}
["欠　　席　　届"]
[]
[null,null,null,{"$f":"+欠席届!$G$8&欠席届!$L$8&欠席届!$M$8&欠席届!$N$8","v":"第一部　文学科　日本語日本文学専攻２年99番"},null,null,{"$f":"IF(欠席届!B15=\"欠席した\",\"欠席いたしました\",\"欠席いたします\")","v":"欠席いたします"}]
[]
[null,"学生証番号",{"$f":"+欠席届!$J$10","v":18199}]
[]
[null,"氏　     　名",{"$f":"+欠席届!$J$12","v":"県短　花子"}]
[]
[{"$f":"\"\"","v":""}]
[{"$f":"\"下記理由により\"&$G$3&\"ので，お届けします。\"","v":"下記理由により欠席いたしますので，お届けします。"}]
[]
["記"]
[]
["１　理　　由",{"$f":"+欠席届!$C$14","v":0}]
["２　欠席月日",{"$f":"+欠席届!$B$33","v":"2021-05-27"},null,{"$f":"欠席届!$E$33&欠席届!$F$33","v":"曜日３限"}]
[]
[{"$f":"+欠席届!$B$18","v":"2022-04-28"}]
[]
[{"$f":"+欠席届!$K$33","v":"土肥"},"先生　講義科目",{"$f":"+欠席届!$G$33","v":"中国文学講読１"}]
["　　"]
["※ 理由は詳しく書くこと。"]
[]
["欠　　席　　届"]
[]
[null,null,null,{"$f":"+欠席届!$G$8&欠席届!$L$8&欠席届!$M$8&欠席届!$N$8","v":"第一部　文学科　日本語日本文学専攻２年99番"}]
[]
[null,"学生証番号",{"$f":"+欠席届!$J$10","v":18199}]
[]
[null,"氏　     　名",{"$f":"+欠席届!$J$12","v":"県短　花子"}]
[]
[{"$f":"\"\"","v":""}]
[{"$f":"\"下記理由により\"&$G$3&\"ので，お届けします。\"","v":"下記理由により欠席いたしますので，お届けします。"}]
[]
["記"]
[]
["１　理　　由",{"$f":"+欠席届!$C$14","v":0}]
["２　欠席月日",{"$f":"+欠席届!$B$34","v":"2021-05-27"},null,{"$f":"欠席届!$E$34&欠席届!$F$34","v":"曜日４限"}]
[]
[{"$f":"+欠席届!$B$18","v":"2022-04-28"}]
[]
[{"$f":"+欠席届!$K$34","v":"岡村俊彦"},"先生　講義科目",{"$f":"+欠席届!$G$34","v":"産業心理学"}]
["　　"]
["※ 理由は詳しく書くこと。"]

{"sheet":"個票3","index":4,"n_rows":43,"n_cols":7,"rows_kept":43,"cut":false,"hidden":true,"merged":[[14,1,14,2],[0,0,0,3],[4,2,4,3],[6,2,6,3],[9,0,9,3],[11,0,11,3],[36,1,36,2],[40,2,40,3],[18,2,18,3],[22,0,22,3],[26,2,26,3],[28,2,28,3],[31,0,31,3],[33,0,33,3]]}
["欠　　席　　届"]
[]
[null,null,null,{"$f":"+欠席届!$G$8&欠席届!$L$8&欠席届!$M$8&欠席届!$N$8","v":"第一部　文学科　日本語日本文学専攻２年99番"},null,null,{"$f":"IF(欠席届!B15=\"欠席した\",\"欠席いたしました\",\"欠席いたします\")","v":"欠席いたします"}]
[]
[null,"学生証番号",{"$f":"+欠席届!$J$10","v":18199}]
[]
[null,"氏　     　名",{"$f":"+欠席届!$J$12","v":"県短　花子"}]
[]
[{"$f":"\"\"","v":""}]
[{"$f":"\"下記理由により\"&$G$3&\"ので，お届けします。\"","v":"下記理由により欠席いたしますので，お届けします。"}]
[]
["記"]
[]
["１　理　　由",{"$f":"+欠席届!$C$14","v":0}]
["２　欠席月日",{"$f":"+欠席届!$B$35","v":"00:00:00"},null,{"$f":"欠席届!$E$35&欠席届!$F$35","v":""}]
[]
[{"$f":"+欠席届!$B$18","v":"2022-04-28"}]
[]
[{"$f":"+欠席届!$K$35","v":0},"先生　講義科目",{"$f":"+欠席届!$G$35","v":0}]
["　　"]
["※ 理由は詳しく書くこと。"]
[]
["欠　　席　　届"]
[]
[null,null,null,{"$f":"+欠席届!$G$8&欠席届!$L$8&欠席届!$M$8&欠席届!$N$8","v":"第一部　文学科　日本語日本文学専攻２年99番"}]
[]
[null,"学生証番号",{"$f":"+欠席届!$J$10","v":18199}]
[]
[null,"氏　     　名",{"$f":"+欠席届!$J$12","v":"県短　花子"}]
[]
[{"$f":"\"\"","v":""}]
[{"$f":"\"下記理由により\"&$G$3&\"ので，お届けします。\"","v":"下記理由により欠席いたしますので，お届けします。"}]
[]
["記"]
[]
["１　理　　由",{"$f":"+欠席届!$C$14","v":0}]
["２　欠席月日",{"$f":"+欠席届!$B$36","v":"00:00:00"},null,{"$f":"欠席届!$E$36&欠席届!$F$36","v":""}]
[]
[{"$f":"+欠席届!$B$18","v":"2022-04-28"}]
[]
[{"$f":"+欠席届!$K$36","v":0},"先生　講義科目",{"$f":"+欠席届!$G$36","v":0}]
["　　"]
["※ 理由は詳しく書くこと。"]

{"sheet":"個票4","index":5,"n_rows":43,"n_cols":7,"rows_kept":43,"cut":false,"hidden":true,"merged":[[14,1,14,2],[0,0,0,3],[4,2,4,3],[6,2,6,3],[9,0,9,3],[11,0,11,3],[36,1,36,2],[40,2,40,3],[18,2,18,3],[22,0,22,3],[26,2,26,3],[28,2,28,3],[31,0,31,3],[33,0,33,3]]}
["欠　　席　　届"]
[]
[null,null,null,{"$f":"+欠席届!$G$8&欠席届!$L$8&欠席届!$M$8&欠席届!$N$8","v":"第一部　文学科　日本語日本文学専攻２年99番"},null,null,{"$f":"IF(欠席届!B15=\"欠席した\",\"欠席いたしました\",\"欠席いたします\")","v":"欠席いたします"}]
[]
[null,"学生証番号",{"$f":"+欠席届!$J$10","v":18199}]
[]
[null,"氏　     　名",{"$f":"+欠席届!$J$12","v":"県短　花子"}]
[]
[{"$f":"\"\"","v":""}]
[{"$f":"\"下記理由により\"&$G$3&\"ので，お届けします。\"","v":"下記理由により欠席いたしますので，お届けします。"}]
[]
["記"]
[]
["１　理　　由",{"$f":"+欠席届!$C$14","v":0}]
["２　欠席月日",{"$f":"+欠席届!$B$37","v":"00:00:00"},null,{"$f":"欠席届!$E$37&欠席届!$F$37","v":""}]
[]
[{"$f":"+欠席届!$B$18","v":"2022-04-28"}]
[]
[{"$f":"+欠席届!$K$37","v":0},"先生　講義科目",{"$f":"+欠席届!$G$37","v":0}]
["　　"]
["※ 理由は詳しく書くこと。"]
[]
["欠　　席　　届"]
[]
[null,null,null,{"$f":"+欠席届!$G$8&欠席届!$L$8&欠席届!$M$8&欠席届!$N$8","v":"第一部　文学科　日本語日本文学専攻２年99番"}]
[]
[null,"学生証番号",{"$f":"+欠席届!$J$10","v":18199}]
[]
[null,"氏　     　名",{"$f":"+欠席届!$J$12","v":"県短　花子"}]
[]
[{"$f":"\"\"","v":""}]
[{"$f":"\"下記理由により\"&$G$3&\"ので，お届けします。\"","v":"下記理由により欠席いたしますので，お届けします。"}]
[]
["記"]
[]
["１　理　　由",{"$f":"+欠席届!$C$14","v":0}]
["２　欠席月日",{"$f":"+欠席届!$B$38","v":"00:00:00"},null,{"$f":"欠席届!$E$38&欠席届!$F$38","v":""}]
[]
[{"$f":"+欠席届!$B$18","v":"2022-04-28"}]
[]
[{"$f":"+欠席届!$K$38","v":0},"先生　講義科目",{"$f":"+欠席届!$G$38","v":0}]
["　　"]
["※ 理由は詳しく書くこと。"]

{"sheet":"個票5","index":6,"n_rows":43,"n_cols":7,"rows_kept":43,"cut":false,"hidden":true,"merged":[[14,1,14,2],[0,0,0,3],[4,2,4,3],[6,2,6,3],[9,0,9,3],[11,0,11,3],[36,1,36,2],[40,2,40,3],[18,2,18,3],[22,0,22,3],[26,2,26,3],[28,2,28,3],[31,0,31,3],[33,0,33,3]]}
["欠　　席　　届"]
[]
[null,null,null,{"$f":"+欠席届!$G$8&欠席届!$L$8&欠席届!$M$8&欠席届!$N$8","v":"第一部　文学科　日本語日本文学専攻２年99番"},null,null,{"$f":"IF(欠席届!B15=\"欠席した\",\"欠席いたしました\",\"欠席いたします\")","v":"欠席いたします"}]
[]
[null,"学生証番号",{"$f":"+欠席届!$J$10","v":18199}]
[]
[null,"氏　     　名",{"$f":"+欠席届!$J$12","v":"県短　花子"}]
[]
[{"$f":"\"\"","v":""}]
[{"$f":"\"下記理由により\"&$G$3&\"ので，お届けします。\"","v":"下記理由により欠席いたしますので，お届けします。"}]
[]
["記"]
[]
["１　理　　由",{"$f":"+欠席届!$C$14","v":0}]
["２　欠席月日",{"$f":"+欠席届!$B$39","v":"00:00:00"},null,{"$f":"欠席届!$E$39&欠席届!$F$39","v":""}]
[]
[{"$f":"+欠席届!$B$18","v":"2022-04-28"}]
[]
[{"$f":"+欠席届!$K$39","v":0},"先生　講義科目",{"$f":"+欠席届!$G$39","v":0}]
["　　"]
["※ 理由は詳しく書くこと。"]
[]
["欠　　席　　届"]
[]
[null,null,null,{"$f":"+欠席届!$G$8&欠席届!$L$8&欠席届!$M$8&欠席届!$N$8","v":"第一部　文学科　日本語日本文学専攻２年99番"}]
[]
[null,"学生証番号",{"$f":"+欠席届!$J$10","v":18199}]
[]
[null,"氏　     　名",{"$f":"+欠席届!$J$12","v":"県短　花子"}]
[]
[{"$f":"\"\"","v":""}]
[{"$f":"\"下記理由により\"&$G$3&\"ので，お届けします。\"","v":"下記理由により欠席いたしますので，お届けします。"}]
[]
["記"]
[]
["１　理　　由",{"$f":"+欠席届!$C$14","v":0}]
["２　欠席月日",{"$f":"+欠席届!$B$40","v":"00:00:00"},null,{"$f":"欠席届!$E$40&欠席届!$F$40","v":""}]
[]
[{"$f":"+欠席届!$B$18","v":"2022-04-28"}]
[]
[{"$f":"+欠席届!$K$40","v":0},"先生　講義科目",{"$f":"+欠席届!$G$40","v":0}]
["　　"]
["※ 理由は詳しく書くこと。"]

{"sheet":"個票6","index":7,"n_rows":43,"n_cols":7,"rows_kept":43,"cut":false,"hidden":true,"merged":[[14,1,14,2],[0,0,0,3],[4,2,4,3],[6,2,6,3],[9,0,9,3],[11,0,11,3],[36,1,36,2],[40,2,40,3],[18,2,18,3],[22,0,22,3],[26,2,26,3],[28,2,28,3],[31,0,31,3],[33,0,33,3]]}
["欠　　席　　届"]
[]
[null,null,null,{"$f":"+欠席届!$G$8&欠席届!$L$8&欠席届!$M$8&欠席届!$N$8","v":"第一部　文学科　日本語日本文学専攻２年99番"},null,null,{"$f":"IF(欠席届!B15=\"欠席した\",\"欠席いたしました\",\"欠席いたします\")","v":"欠席いたします"}]
[]
[null,"学生証番号",{"$f":"+欠席届!$J$10","v":18199}]
[]
[null,"氏　     　名",{"$f":"+欠席届!$J$12","v":"県短　花子"}]
[]
[{"$f":"\"\"","v":""}]
[{"$f":"\"下記理由により\"&$G$3&\"ので，お届けします。\"","v":"下記理由により欠席いたしますので，お届けします。"}]
[]
["記"]
[]
["１　理　　由",{"$f":"+欠席届!$C$14","v":0}]
["２　欠席月日",{"$f":"+欠席届!$B$41","v":"00:00:00"},null,{"$f":"欠席届!$E$41&欠席届!$F$41","v":""}]
[]
[{"$f":"+欠席届!$B$18","v":"2022-04-28"}]
[]
[{"$f":"+欠席届!$K$41","v":0},"先生　講義科目",{"$f":"+欠席届!$G$41","v":0}]
["　　"]
["※ 理由は詳しく書くこと。"]
[]
["欠　　席　　届"]
[]
[null,null,null,{"$f":"+欠席届!$G$8&欠席届!$L$8&欠席届!$M$8&欠席届!$N$8","v":"第一部　文学科　日本語日本文学専攻２年99番"}]
[]
[null,"学生証番号",{"$f":"+欠席届!$J$10","v":18199}]
[]
[null,"氏　     　名",{"$f":"+欠席届!$J$12","v":"県短　花子"}]
[]
[{"$f":"\"\"","v":""}]
[{"$f":"\"下記理由により\"&$G$3&\"ので，お届けします。\"","v":"下記理由により欠席いたしますので，お届けします。"}]
[]
["記"]
[]
["１　理　　由",{"$f":"+欠席届!$C$14","v":0}]
["２　欠席月日",{"$f":"+欠席届!$B$42","v":"00:00:00"},null,{"$f":"欠席届!$E$42&欠席届!$F$42","v":""}]
[]
[{"$f":"+欠席届!$B$18","v":"2022-04-28"}]
[]
[{"$f":"+欠席届!$K$42","v":0},"先生　講義科目",{"$f":"+欠席届!$G$42","v":0}]
["　　"]
["※ 理由は詳しく書くこと。"]

{"sheet":"個票7","index":8,"n_rows":43,"n_cols":7,"rows_kept":43,"cut":false,"hidden":true,"merged":[[14,1,14,2],[0,0,0,3],[4,2,4,3],[6,2,6,3],[9,0,9,3],[11,0,11,3],[36,1,36,2],[40,2,40,3],[18,2,18,3],[22,0,22,3],[26,2,26,3],[28,2,28,3],[31,0,31,3],[33,0,33,3]]}
["欠　　席　　届"]
[]
[null,null,null,{"$f":"+欠席届!$G$8&欠席届!$L$8&欠席届!$M$8&欠席届!$N$8","v":"第一部　文学科　日本語日本文学専攻２年99番"},null,null,{"$f":"IF(欠席届!B15=\"欠席した\",\"欠席いたしました\",\"欠席いたします\")","v":"欠席いたします"}]
[]
[null,"学生証番号",{"$f":"+欠席届!$J$10","v":18199}]
[]
[null,"氏　     　名",{"$f":"+欠席届!$J$12","v":"県短　花子"}]
[]
[{"$f":"\"\"","v":""}]
[{"$f":"\"下記理由により\"&$G$3&\"ので，お届けします。\"","v":"下記理由により欠席いたしますので，お届けします。"}]
[]
["記"]
[]
["１　理　　由",{"$f":"+欠席届!$C$14","v":0}]
["２　欠席月日",{"$f":"+欠席届!$B$43","v":"00:00:00"},null,{"$f":"欠席届!$E$43&欠席届!$F$43","v":""}]
[]
[{"$f":"+欠席届!$B$18","v":"2022-04-28"}]
[]
[{"$f":"+欠席届!$K$43","v":0},"先生　講義科目",{"$f":"+欠席届!$G$43","v":0}]
["　　"]
["※ 理由は詳しく書くこと。"]
[]
["欠　　席　　届"]
[]
[null,null,null,{"$f":"+欠席届!$G$8&欠席届!$L$8&欠席届!$M$8&欠席届!$N$8","v":"第一部　文学科　日本語日本文学専攻２年99番"}]
[]
[null,"学生証番号",{"$f":"+欠席届!$J$10","v":18199}]
[]
[null,"氏　     　名",{"$f":"+欠席届!$J$12","v":"県短　花子"}]
[]
[{"$f":"\"\"","v":""}]
[{"$f":"\"下記理由により\"&$G$3&\"ので，お届けします。\"","v":"下記理由により欠席いたしますので，お届けします。"}]
[]
["記"]
[]
["１　理　　由",{"$f":"+欠席届!$C$14","v":0}]
["２　欠席月日",{"$f":"+欠席届!$B$44","v":"00:00:00"},null,{"$f":"欠席届!$E$44&欠席届!$F$44","v":""}]
[]
[{"$f":"+欠席届!$B$18","v":"2022-04-28"}]
[]
[{"$f":"+欠席届!$K$44","v":0},"先生　講義科目",{"$f":"+欠席届!$G$44","v":0}]
["　　"]
["※ 理由は詳しく書くこと。"]

{"sheet":"個票8","index":9,"n_rows":43,"n_cols":7,"rows_kept":43,"cut":false,"hidden":true,"merged":[[14,1,14,2],[0,0,0,3],[4,2,4,3],[6,2,6,3],[9,0,9,3],[11,0,11,3],[36,1,36,2],[40,2,40,3],[18,2,18,3],[22,0,22,3],[26,2,26,3],[28,2,28,3],[31,0,31,3],[33,0,33,3]]}
["欠　　席　　届"]
[]
[null,null,null,{"$f":"+欠席届!$G$8&欠席届!$L$8&欠席届!$M$8&欠席届!$N$8","v":"第一部　文学科　日本語日本文学専攻２年99番"},null,null,{"$f":"IF(欠席届!B15=\"欠席した\",\"欠席いたしました\",\"欠席いたします\")","v":"欠席いたします"}]
[]
[null,"学生証番号",{"$f":"+欠席届!$J$10","v":18199}]
[]
[null,"氏　     　名",{"$f":"+欠席届!$J$12","v":"県短　花子"}]
[]
[{"$f":"\"\"","v":""}]
[{"$f":"\"下記理由により\"&$G$3&\"ので，お届けします。\"","v":"下記理由により欠席いたしますので，お届けします。"}]
[]
["記"]
[]
["１　理　　由",{"$f":"+欠席届!$C$14","v":0}]
["２　欠席月日",{"$f":"+欠席届!$B$45","v":"00:00:00"},null,{"$f":"欠席届!$E$45&欠席届!$F$45","v":""}]
[]
[{"$f":"+欠席届!$B$18","v":"2022-04-28"}]
[]
[{"$f":"+欠席届!$K$45","v":0},"先生　講義科目",{"$f":"+欠席届!$G$45","v":0}]
["　　"]
["※ 理由は詳しく書くこと。"]
[]
["欠　　席　　届"]
[]
[null,null,null,{"$f":"+欠席届!$G$8&欠席届!$L$8&欠席届!$M$8&欠席届!$N$8","v":"第一部　文学科　日本語日本文学専攻２年99番"}]
[]
[null,"学生証番号",{"$f":"+欠席届!$J$10","v":18199}]
[]
[null,"氏　     　名",{"$f":"+欠席届!$J$12","v":"県短　花子"}]
[]
[{"$f":"\"\"","v":""}]
[{"$f":"\"下記理由により\"&$G$3&\"ので，お届けします。\"","v":"下記理由により欠席いたしますので，お届けします。"}]
[]
["記"]
[]
["１　理　　由",{"$f":"+欠席届!$C$14","v":0}]
["２　欠席月日",{"$f":"+欠席届!$B$46","v":"00:00:00"},null,{"$f":"欠席届!$E$46&欠席届!$F$46","v":""}]
[]
[{"$f":"+欠席届!$B$18","v":"2022-04-28"}]
[]
[{"$f":"+欠席届!$K$46","v":0},"先生　講義科目",{"$f":"+欠席届!$G$46","v":0}]
["　　"]
["※ 理由は詳しく書くこと。"]

{"sheet":"個票9","index":10,"n_rows":43,"n_cols":7,"rows_kept":43,"cut":false,"hidden":true,"merged":[[14,1,14,2],[0,0,0,3],[4,2,4,3],[6,2,6,3],[9,0,9,3],[11,0,11,3],[36,1,36,2],[40,2,40,3],[18,2,18,3],[22,0,22,3],[26,2,26,3],[28,2,28,3],[31,0,31,3],[33,0,33,3]]}
["欠　　席　　届"]
[]
[null,null,null,{"$f":"+欠席届!$G$8&欠席届!$L$8&欠席届!$M$8&欠席届!$N$8","v":"第一部　文学科　日本語日本文学専攻２年99番"},null,null,{"$f":"IF(欠席届!B15=\"欠席した\",\"欠席いたしました\",\"欠席いたします\")","v":"欠席いたします"}]
[]
[null,"学生証番号",{"$f":"+欠席届!$J$10","v":18199}]
[]
[null,"氏　     　名",{"$f":"+欠席届!$J$12","v":"県短　花子"}]
[]
[{"$f":"\"\"","v":""}]
[{"$f":"\"下記理由により\"&$G$3&\"ので，お届けします。\"","v":"下記理由により欠席いたしますので，お届けします。"}]
[]
["記"]
[]
["１　理　　由",{"$f":"+欠席届!$C$14","v":0}]
["２　欠席月日",{"$f":"+欠席届!$B$47","v":"00:00:00"},null,{"$f":"欠席届!$E$47&欠席届!$F$47","v":""}]
[]
[{"$f":"+欠席届!$B$18","v":"2022-04-28"}]
[]
[{"$f":"+欠席届!$K$47","v":0},"先生　講義科目",{"$f":"+欠席届!$G$47","v":0}]
["　　"]
["※ 理由は詳しく書くこと。"]
[]
["欠　　席　　届"]
[]
[null,null,null,{"$f":"+欠席届!$G$8&欠席届!$L$8&欠席届!$M$8&欠席届!$N$8","v":"第一部　文学科　日本語日本文学専攻２年99番"}]
[]
[null,"学生証番号",{"$f":"+欠席届!$J$10","v":18199}]
[]
[null,"氏　     　名",{"$f":"+欠席届!$J$12","v":"県短　花子"}]
[]
[{"$f":"\"\"","v":""}]
[{"$f":"\"下記理由により\"&$G$3&\"ので，お届けします。\"","v":"下記理由により欠席いたしますので，お届けします。"}]
[]
["記"]
[]
["１　理　　由",{"$f":"+欠席届!$C$14","v":0}]
["２　欠席月日",{"$f":"+欠席届!$B$48","v":"00:00:00"},null,{"$f":"欠席届!$E$48&欠席届!$F$48","v":""}]
[]
[{"$f":"+欠席届!$B$18","v":"2022-04-28"}]
[]
[{"$f":"+欠席届!$K$48","v":0},"先生　講義科目",{"$f":"+欠席届!$G$48","v":0}]
["　　"]
["※ 理由は詳しく書くこと。"]